BEGIN:VCALENDAR
VERSION:2.0
PRODID:-//The Nigerian Institute of Architects - ECPv5.15.0.1//NONSGML v1.0//EN
CALSCALE:GREGORIAN
METHOD:PUBLISH
X-WR-CALNAME:The Nigerian Institute of Architects
X-ORIGINAL-URL:https://dev.nia.ng
X-WR-CALDESC:Events for The Nigerian Institute of Architects
REFRESH-INTERVAL;VALUE=DURATION:PT1H
X-Robots-Tag:noindex
X-PUBLISHED-TTL:PT1H
BEGIN:VTIMEZONE
TZID:UTC
BEGIN:STANDARD
TZOFFSETFROM:+0000
TZOFFSETTO:+0000
TZNAME:UTC
DTSTART:20220101T000000
END:STANDARD
END:VTIMEZONE
BEGIN:VEVENT
DTSTART;TZID=UTC:20220817T000000
DTEND;TZID=UTC:20220820T000000
DTSTAMP:20260424T005435
CREATED:20220422T111132Z
LAST-MODIFIED:20220422T111132Z
UID:9981-1660694400-1660953600@dev.nia.ng
SUMMARY:ArchiBUILT 2022 Intern. Confer. Centre\, Abuja
DESCRIPTION:
URL:https://dev.nia.ng/event/archibuilt-2022-intern-confer-centre-abuja/
END:VEVENT
END:VCALENDAR