BEGIN:VCALENDAR
VERSION:2.0
PRODID:-//The Nigerian Institute of Architects - ECPv5.15.0.1//NONSGML v1.0//EN
CALSCALE:GREGORIAN
METHOD:PUBLISH
X-WR-CALNAME:The Nigerian Institute of Architects
X-ORIGINAL-URL:https://dev.nia.ng
X-WR-CALDESC:Events for The Nigerian Institute of Architects
REFRESH-INTERVAL;VALUE=DURATION:PT1H
X-Robots-Tag:noindex
X-PUBLISHED-TTL:PT1H
BEGIN:VTIMEZONE
TZID:UTC
BEGIN:STANDARD
TZOFFSETFROM:+0000
TZOFFSETTO:+0000
TZNAME:UTC
DTSTART:20220101T000000
END:STANDARD
END:VTIMEZONE
BEGIN:VEVENT
DTSTART;TZID=UTC:20220920T000000
DTEND;TZID=UTC:20220923T000000
DTSTAMP:20260423T194224
CREATED:20220422T111200Z
LAST-MODIFIED:20220422T111200Z
UID:9989-1663632000-1663891200@dev.nia.ng
SUMMARY:NIAPPE/Special Membership Exams - ABJ\, ENU\, LAG\, KAD
DESCRIPTION:
URL:https://dev.nia.ng/event/niappe-special-membership-exams-abj-enu-lag-kad/
END:VEVENT
END:VCALENDAR