BEGIN:VCALENDAR
VERSION:2.0
PRODID:-//The Nigerian Institute of Architects - ECPv5.15.0.1//NONSGML v1.0//EN
CALSCALE:GREGORIAN
METHOD:PUBLISH
X-WR-CALNAME:The Nigerian Institute of Architects
X-ORIGINAL-URL:https://dev.nia.ng
X-WR-CALDESC:Events for The Nigerian Institute of Architects
REFRESH-INTERVAL;VALUE=DURATION:PT1H
X-Robots-Tag:noindex
X-PUBLISHED-TTL:PT1H
BEGIN:VTIMEZONE
TZID:UTC
BEGIN:STANDARD
TZOFFSETFROM:+0000
TZOFFSETTO:+0000
TZNAME:UTC
DTSTART:20220101T000000
END:STANDARD
END:VTIMEZONE
BEGIN:VEVENT
DTSTART;TZID=UTC:20221019T000000
DTEND;TZID=UTC:20221019T000000
DTSTAMP:20260424T022715
CREATED:20220422T111536Z
LAST-MODIFIED:20220422T111536Z
UID:10003-1666137600-1666137600@dev.nia.ng
SUMMARY:West Africa Archit. Festival
DESCRIPTION:
URL:https://dev.nia.ng/event/west-africa-archit-festival/
END:VEVENT
BEGIN:VEVENT
DTSTART;TZID=UTC:20221020T000000
DTEND;TZID=UTC:20221022T000000
DTSTAMP:20260424T022715
CREATED:20220422T111536Z
LAST-MODIFIED:20220422T111536Z
UID:10004-1666224000-1666396800@dev.nia.ng
SUMMARY:WAAF 2022 - Port Harcourt
DESCRIPTION:
URL:https://dev.nia.ng/event/waaf-2022-port-harcourt/
END:VEVENT
BEGIN:VEVENT
DTSTART;TZID=UTC:20221027T000000
DTEND;TZID=UTC:20221027T000000
DTSTAMP:20260424T022715
CREATED:20220422T111536Z
LAST-MODIFIED:20220422T111536Z
UID:10005-1666828800-1666828800@dev.nia.ng
SUMMARY:CPDP.15 Session
DESCRIPTION:
URL:https://dev.nia.ng/event/cpdp-15-session/
END:VEVENT
BEGIN:VEVENT
DTSTART;TZID=UTC:20221110T000000
DTEND;TZID=UTC:20221110T000000
DTSTAMP:20260424T022715
CREATED:20220422T111537Z
LAST-MODIFIED:20220422T111537Z
UID:10006-1668038400-1668038400@dev.nia.ng
SUMMARY:CPDP.16 Session
DESCRIPTION:
URL:https://dev.nia.ng/event/cpdp-16-session/
END:VEVENT
BEGIN:VEVENT
DTSTART;TZID=UTC:20221123T000000
DTEND;TZID=UTC:20221126T000000
DTSTAMP:20260424T022715
CREATED:20220422T111551Z
LAST-MODIFIED:20220422T111551Z
UID:10007-1669161600-1669420800@dev.nia.ng
SUMMARY:62nd Annual Gen. Meeting & Conference - AGM 2022 TBA
DESCRIPTION:
URL:https://dev.nia.ng/event/62nd-annual-gen-meeting-conference-agm-2022-tba/
END:VEVENT
BEGIN:VEVENT
DTSTART;TZID=UTC:20221208T000000
DTEND;TZID=UTC:20221208T000000
DTSTAMP:20260424T022715
CREATED:20220422T111551Z
LAST-MODIFIED:20220422T111551Z
UID:10008-1670457600-1670457600@dev.nia.ng
SUMMARY:CPDP.17 Session
DESCRIPTION:
URL:https://dev.nia.ng/event/cpdp-17-session/
END:VEVENT
BEGIN:VEVENT
DTSTART;TZID=UTC:20221221T000000
DTEND;TZID=UTC:20221221T000000
DTSTAMP:20260424T022715
CREATED:20220422T111551Z
LAST-MODIFIED:20220422T111551Z
UID:10009-1671580800-1671580800@dev.nia.ng
SUMMARY:NIA Secretariat Scales down operations
DESCRIPTION:
URL:https://dev.nia.ng/event/nia-secretariat-scales-down-operations/
END:VEVENT
END:VCALENDAR