BEGIN:VCALENDAR
VERSION:2.0
PRODID:-//The Nigerian Institute of Architects - ECPv5.15.0.1//NONSGML v1.0//EN
CALSCALE:GREGORIAN
METHOD:PUBLISH
X-WR-CALNAME:The Nigerian Institute of Architects
X-ORIGINAL-URL:https://dev.nia.ng
X-WR-CALDESC:Events for The Nigerian Institute of Architects
REFRESH-INTERVAL;VALUE=DURATION:PT1H
X-Robots-Tag:noindex
X-PUBLISHED-TTL:PT1H
BEGIN:VTIMEZONE
TZID:UTC
BEGIN:STANDARD
TZOFFSETFROM:+0000
TZOFFSETTO:+0000
TZNAME:UTC
DTSTART:20220101T000000
END:STANDARD
END:VTIMEZONE
BEGIN:VEVENT
DTSTART;TZID=UTC:20220402T000000
DTEND;TZID=UTC:20220402T000000
DTSTAMP:20260424T021710
CREATED:20220317T125218Z
LAST-MODIFIED:20220317T125218Z
UID:9090-1648857600-1648857600@dev.nia.ng
SUMMARY:NIA Executive Council Meeting
DESCRIPTION:
URL:https://dev.nia.ng/event/nia-executive-council-meeting/
END:VEVENT
BEGIN:VEVENT
DTSTART;TZID=UTC:20220402T000000
DTEND;TZID=UTC:20220402T000000
DTSTAMP:20260424T021710
CREATED:20220317T125218Z
LAST-MODIFIED:20220317T125218Z
UID:9091-1648857600-1648857600@dev.nia.ng
SUMMARY:02/ Quarterly Dinner 01-Enugu
DESCRIPTION:
URL:https://dev.nia.ng/event/02-quarterly-dinner-01-enugu/
END:VEVENT
BEGIN:VEVENT
DTSTART;TZID=UTC:20220407T000000
DTEND;TZID=UTC:20220407T000000
DTSTAMP:20260424T021710
CREATED:20220317T125233Z
LAST-MODIFIED:20220317T125233Z
UID:9092-1649289600-1649289600@dev.nia.ng
SUMMARY:CPDP.03 Session
DESCRIPTION:
URL:https://dev.nia.ng/event/cpdp-03-session/
END:VEVENT
BEGIN:VEVENT
DTSTART;TZID=UTC:20220412T000000
DTEND;TZID=UTC:20220412T000000
DTSTAMP:20260424T021710
CREATED:20220317T125233Z
LAST-MODIFIED:20220317T125233Z
UID:9093-1649721600-1649721600@dev.nia.ng
SUMMARY:Courtesy Calls
DESCRIPTION:
URL:https://dev.nia.ng/event/courtesy-calls-3/
END:VEVENT
BEGIN:VEVENT
DTSTART;TZID=UTC:20220413T000000
DTEND;TZID=UTC:20220413T000000
DTSTAMP:20260424T021710
CREATED:20220317T125233Z
LAST-MODIFIED:20220317T125233Z
UID:9094-1649808000-1649808000@dev.nia.ng
SUMMARY:Courtesy Calls
DESCRIPTION:
URL:https://dev.nia.ng/event/courtesy-calls-4/
END:VEVENT
BEGIN:VEVENT
DTSTART;TZID=UTC:20220414T000000
DTEND;TZID=UTC:20220414T000000
DTSTAMP:20260424T021710
CREATED:20220317T125233Z
LAST-MODIFIED:20220317T125233Z
UID:9095-1649894400-1649894400@dev.nia.ng
SUMMARY:50 - 50 Evening Event
DESCRIPTION:
URL:https://dev.nia.ng/event/50-50-evening-event/
END:VEVENT
BEGIN:VEVENT
DTSTART;TZID=UTC:20220414T000000
DTEND;TZID=UTC:20220414T000000
DTSTAMP:20260424T021710
CREATED:20220317T125233Z
LAST-MODIFIED:20220317T125233Z
UID:9096-1649894400-1649894400@dev.nia.ng
SUMMARY:X2
DESCRIPTION:
URL:https://dev.nia.ng/event/x2/
END:VEVENT
BEGIN:VEVENT
DTSTART;TZID=UTC:20220415T000000
DTEND;TZID=UTC:20220415T000000
DTSTAMP:20260424T021710
CREATED:20220317T125248Z
LAST-MODIFIED:20220317T125248Z
UID:9097-1649980800-1649980800@dev.nia.ng
SUMMARY:Good Friday - Public Holiday
DESCRIPTION:
URL:https://dev.nia.ng/event/good-friday-public-holiday/
END:VEVENT
BEGIN:VEVENT
DTSTART;TZID=UTC:20220418T000000
DTEND;TZID=UTC:20220418T000000
DTSTAMP:20260424T021710
CREATED:20220317T125249Z
LAST-MODIFIED:20220317T125249Z
UID:9098-1650240000-1650240000@dev.nia.ng
SUMMARY:Easter Monday
DESCRIPTION:
URL:https://dev.nia.ng/event/easter-monday/
END:VEVENT
BEGIN:VEVENT
DTSTART;TZID=UTC:20220421T000000
DTEND;TZID=UTC:20220421T000000
DTSTAMP:20260424T021710
CREATED:20220317T125249Z
LAST-MODIFIED:20220317T125249Z
UID:9099-1650499200-1650499200@dev.nia.ng
SUMMARY:CDPD.04 Session
DESCRIPTION:
URL:https://dev.nia.ng/event/cdpd-04-session/
END:VEVENT
END:VCALENDAR